BEGIN:VCALENDAR
VERSION:2.0
PRODID:www.stappen-shoppen.nl
BEGIN:VEVENT
UID:stappen-shoppen.nl/entity/68b94ca55ff5a6b32f0bd815
DTSTAMP:20260420T183230Z
ORGANIZER;CN=:MAILTO:
DTSTART:20250905T200000Z
DTEND:20250906T020000Z
URL:https://www.bredastudentapp.com/ical/68b94ca55ff5a6b32f0bd815
SUMMARY:𝗕𝗮𝗿𝗼𝗻 𝗟𝗶𝘃𝗲 𝘅 𝗦𝗲𝗰𝗿𝗲𝘁 𝗦𝗼𝗱𝗮 
DESCRIPTION:Verwacht een liveset vol melodic en deep house\, met de extra energie van live gitaar.
END:VEVENT
END:VCALENDAR

