BEGIN:VCALENDAR
VERSION:2.0
PRODID:www.stappen-shoppen.nl
BEGIN:VEVENT
UID:stappen-shoppen.nl/entity/68c7f9993ace34ddcc09d8ff
DTSTAMP:20260420T182359Z
ORGANIZER;CN=:MAILTO:
DTSTART:20250920T180000Z
DTEND:20250920T220000Z
URL:https://www.bredastudentapp.com/ical/68c7f9993ace34ddcc09d8ff
SUMMARY:𝗟𝗶𝗰𝗵𝘁𝘀𝗹𝗼𝗲𝗽𝗲𝗻𝗽𝗮𝗿𝗮𝗱𝗲
DESCRIPTION:𝗭𝗮𝘁𝗲𝗿𝗱𝗮𝗴 𝟮𝟬 𝘀𝗲𝗽𝘁𝗲𝗺𝗯𝗲𝗿 – 𝗟𝗶𝗰𝗵𝘁𝘀𝗹𝗼𝗲𝗽𝗲𝗻𝗽𝗮𝗿𝗮𝗱𝗲 Een van de meest magische avonden van Breda!
END:VEVENT
END:VCALENDAR

