BEGIN:VCALENDAR
VERSION:2.0
PRODID:www.stappen-shoppen.nl
BEGIN:VEVENT
UID:stappen-shoppen.nl/entity/69204645d87aa10217085a32
DTSTAMP:20260420T052647Z
ORGANIZER;CN=:MAILTO:
DTSTART:20260501T173000Z
DTEND:20260501T210000Z
URL:https://www.bredastudentapp.com/ical/69204645d87aa10217085a32
SUMMARY:MagnaCult + TerraDown in MEZZ
DESCRIPTION:
END:VEVENT
END:VCALENDAR

