BEGIN:VCALENDAR
VERSION:2.0
PRODID:www.stappen-shoppen.nl
BEGIN:VEVENT
UID:stappen-shoppen.nl/entity/695cfa413d6fd30f4f01d730
DTSTAMP:20260420T183230Z
ORGANIZER;CN=:MAILTO:
DTSTART:20260201T100000Z
DTEND:20260201T140000Z
URL:https://www.bredastudentapp.com/ical/695cfa413d6fd30f4f01d730
SUMMARY:Oeledienst
DESCRIPTION:Alle Kielegatters zijn op zondag 1 februari weer van harte welkom in de Grote Kerk! 
END:VEVENT
END:VCALENDAR

