BEGIN:VCALENDAR
VERSION:2.0
PRODID:www.stappen-shoppen.nl
BEGIN:VEVENT
UID:stappen-shoppen.nl/entity/69e6295f43678c397a0572a4
DTSTAMP:20260421T220228Z
ORGANIZER;CN=:MAILTO:
DTSTART:20260513T220000Z
DTEND:20260516T220000Z
URL:https://www.bredastudentapp.com/ical/69e6295f43678c397a0572a4
SUMMARY:BREDA JAZZ FESTIVAL 2026 - PROGRAMMA ZATERDAG 16 MEI
DESCRIPTION:Van 14 mei t/m 17 mei verandert Breda opnieuw in het bruisende hart van de jazzwereld! Geniet vier dagen lang van swingende optredens\, internationale topacts en een feestelijke sfeer in de historische binnenstad. Of je nu houdt van klassieke jazz\, funk\, soul of New Orleans vibes — Breda Jazz laat je dansen\, dromen en genieten. Mis het niet!
END:VEVENT
END:VCALENDAR

