BEGIN:VCALENDAR
VERSION:2.0
PRODID:www.stappen-shoppen.nl
BEGIN:VEVENT
UID:stappen-shoppen.nl/entity/69e7e4d102f87300680478f9
DTSTAMP:20260422T071037Z
ORGANIZER;CN=:MAILTO:info@cafelievense.nl
DTSTART:20260525T110000Z
DTEND:20260525T130000Z
URL:https://www.bredastudentapp.com/ical/69e7e4d102f87300680478f9
SUMMARY:Live: Lo Stadio podcast in de Lievense Beergarden
DESCRIPTION:Italiaanse voetbalcultuur in al haar glorie & grilligheid. Live in onze Beergarden\; Lo Stadio Podcast – met Willem\, Wesley\, Vincent en Boudewijn.  Kom op Pinkstermaandag 25 mei de 250e aflevering van Lo Stadio vieren met een feestelijke live-uitzending vanuit de Beergarden bij Café Lievense. Daags na de ontknoping van de Serie A blikken we graag samen met jou terug op alles wat dit seizoen kleur gaf. Wie pakt de scudetto\, wie mag Europa in en is er volgend seizoen nog Serie A-voetbal in Firenze? We reiken ook de jaarlijkse Lo Stadio Awards uit en doen een nieuwe calcio-quiz.  Tickets @ https://sales.ticketing.cm.com/lostadio/nl-nl/1944d711-e6c6-4d69-94d8-86b90a88eb36
END:VEVENT
END:VCALENDAR

