BEGIN:VCALENDAR
VERSION:2.0
PRODID:www.stappen-shoppen.nl
BEGIN:VEVENT
UID:stappen-shoppen.nl/entity/69e9ed22282604534f02ebbb
DTSTAMP:20260425T114651Z
ORGANIZER;CN=:MAILTO:info@mezz.nl
DTSTART:20261204T183000Z
DTEND:20261204T220000Z
URL:https://www.bredastudentapp.com/ical/69e9ed22282604534f02ebbb
SUMMARY:Pene Corrida in MEZZ
DESCRIPTION:Het antwoord op de vraag: “Hoe zou dit nummer klinken als een metal band het zou spelen?”
END:VEVENT
END:VCALENDAR

