BEGIN:VCALENDAR
VERSION:2.0
PRODID:www.stappen-shoppen.nl
BEGIN:VEVENT
UID:stappen-shoppen.nl/entity/69e9edadb577009ea409f8d4
DTSTAMP:20260425T114651Z
ORGANIZER;CN=:MAILTO:
DTSTART:20261209T183000Z
DTEND:20261209T220000Z
URL:https://www.bredastudentapp.com/ical/69e9edadb577009ea409f8d4
SUMMARY:Jett Rebel
DESCRIPTION:Jett Rebel in MEZZ
END:VEVENT
END:VCALENDAR

